BEGIN:VCALENDAR
VERSION:2.0
PRODID:-//Maryland Apprenticeship Connector - ECPv6.15.18//NONSGML v1.0//EN
CALSCALE:GREGORIAN
METHOD:PUBLISH
X-WR-CALNAME:Maryland Apprenticeship Connector
X-ORIGINAL-URL:https://macworkforce.org
X-WR-CALDESC:Events for Maryland Apprenticeship Connector
REFRESH-INTERVAL;VALUE=DURATION:PT1H
X-Robots-Tag:noindex
X-PUBLISHED-TTL:PT1H
BEGIN:VTIMEZONE
TZID:America/New_York
BEGIN:DAYLIGHT
TZOFFSETFROM:-0500
TZOFFSETTO:-0400
TZNAME:EDT
DTSTART:20230312T070000
END:DAYLIGHT
BEGIN:STANDARD
TZOFFSETFROM:-0400
TZOFFSETTO:-0500
TZNAME:EST
DTSTART:20231105T060000
END:STANDARD
BEGIN:DAYLIGHT
TZOFFSETFROM:-0500
TZOFFSETTO:-0400
TZNAME:EDT
DTSTART:20240310T070000
END:DAYLIGHT
BEGIN:STANDARD
TZOFFSETFROM:-0400
TZOFFSETTO:-0500
TZNAME:EST
DTSTART:20241103T060000
END:STANDARD
BEGIN:DAYLIGHT
TZOFFSETFROM:-0500
TZOFFSETTO:-0400
TZNAME:EDT
DTSTART:20250309T070000
END:DAYLIGHT
BEGIN:STANDARD
TZOFFSETFROM:-0400
TZOFFSETTO:-0500
TZNAME:EST
DTSTART:20251102T060000
END:STANDARD
END:VTIMEZONE
BEGIN:VEVENT
DTSTART;TZID=America/New_York:20240919T130000
DTEND;TZID=America/New_York:20240919T140000
DTSTAMP:20260423T113204
CREATED:20240816T143031Z
LAST-MODIFIED:20240816T143031Z
UID:2142-1726750800-1726754400@macworkforce.org
SUMMARY:AIB Meeting
DESCRIPTION:
URL:https://macworkforce.org/event/aib-meeting-2/
END:VEVENT
BEGIN:VEVENT
DTSTART;TZID=America/New_York:20240919T120000
DTEND;TZID=America/New_York:20240919T130000
DTSTAMP:20260423T113204
CREATED:20240904T180000Z
LAST-MODIFIED:20240913T152931Z
UID:2164-1726747200-1726750800@macworkforce.org
SUMMARY:WEBINAR: Construction Management Workforce Solutions for Construction Employers
DESCRIPTION:Zoom Webinar | No Cost to Attend \n\nBuilding Tomorrow’s Construction Leaders Today\nThe demand for construction managers is rapidly increasing\, driven by the surge in infrastructure projects and Maryland’s commitment to housing expansion. Construction managers are pivotal in overseeing projects from planning to completion\, and companies are feeling the pressure to fill these roles. In fact\, the U.S. Bureau of Labor Statistics projects a 5% growth in employment for construction managers between 2022 and 2032\, with a median salary of $104\,900 as of May 2023. \nWith an aging workforce\, new federal funding\, and the implementation of Maryland’s Housing Expansion and Affordability Act\, now is the time for construction employers to adopt innovative recruitment and training strategies. Apprenticeships in construction management offer a solution that not only addresses this workforce gap but also provides a competitive edge in today’s market. \nWhy Attend?\nIn this exclusive one-hour webinar\, you’ll learn how construction management apprenticeships can transform your business by attracting and training the next generation of leaders. Discover how tapping into high school talent and leveraging registered apprenticeships can enhance your recruitment and retention strategies\, while accessing valuable incentives. \nKey Takeaways:\n\nConstruction Management Apprenticeships: What they look like for employers and apprentices\, and why recruiting high school students can be a game-changer.\nEmployer Benefits: Discover how apprenticeships can reduce turnover\, create a skilled workforce pipeline\, and improve job site safety and productivity.\nResources and Support: Learn about the tools available to help you identify candidates\, provide training\, and track apprentice progress.\nFinancial Incentives: Explore funding opportunities to offset the cost of sponsoring youth and registered apprenticeships.\nSuccess Stories: Hear firsthand from a former construction management apprentice who is now thriving in the industry.\n\nFeatured Panelists:\n\nJennifer Dewees – Executive Director\, Maryland Center for Construction Education & Innovation (MCCEI) & Co-Founder\, Maryland Apprenticeship Connector\nJeff Richmond – Director of Apprenticeship & Workforce Innovation\, Howard Community College\nLogan Dean – Program Manager\, Maryland Apprenticeship & Training Program\, Maryland Department of Labor\n\n\n\nRegister Now\nDon’t miss this chance to elevate your workforce strategy and capitalize on apprenticeship programs tailored for Maryland’s growing construction industry. \nRegister Today to gain insights\, connect with industry experts\, and unlock the tools to build a stronger\, more resilient workforce.
URL:https://macworkforce.org/event/webinar-construction-management-workforce-solutions-for-construction-employers/
ATTACH;FMTTYPE=image/png:https://macworkforce.org/wp-content/uploads/2024/09/Copy-of-MAC-webinar-template-LinkedIn-Post-2.png
END:VEVENT
BEGIN:VEVENT
DTSTART;TZID=America/New_York:20240917T150000
DTEND;TZID=America/New_York:20240917T160000
DTSTAMP:20260423T113204
CREATED:20240816T142741Z
LAST-MODIFIED:20240816T142741Z
UID:2136-1726585200-1726588800@macworkforce.org
SUMMARY:AIB Pillar 3 Advisory Committee Meeting
DESCRIPTION:
URL:https://macworkforce.org/event/aib-pillar-3-advisory-committee-meeting/
END:VEVENT
BEGIN:VEVENT
DTSTART;TZID=America/New_York:20240910T163000
DTEND;TZID=America/New_York:20240910T173000
DTSTAMP:20260423T113204
CREATED:20240816T142651Z
LAST-MODIFIED:20240816T142651Z
UID:2133-1725985800-1725989400@macworkforce.org
SUMMARY:AIB Pillar 2 Advisory Committee Meeting
DESCRIPTION:
URL:https://macworkforce.org/event/aib-pillar-2-advisory-committee-meeting/
END:VEVENT
BEGIN:VEVENT
DTSTART;TZID=America/New_York:20240905T173000
DTEND;TZID=America/New_York:20240905T183000
DTSTAMP:20260423T113204
CREATED:20240816T142607Z
LAST-MODIFIED:20240816T142607Z
UID:2130-1725557400-1725561000@macworkforce.org
SUMMARY:AIB Pillar 1 Advisory Committee Meeting
DESCRIPTION:
URL:https://macworkforce.org/event/aib-pillar-1-advisory-committee-meeting/
END:VEVENT
BEGIN:VEVENT
DTSTART;TZID=America/New_York:20240904T130000
DTEND;TZID=America/New_York:20240904T140000
DTSTAMP:20260423T113204
CREATED:20240816T142459Z
LAST-MODIFIED:20240816T142459Z
UID:2125-1725454800-1725458400@macworkforce.org
SUMMARY:AIB Meeting
DESCRIPTION:
URL:https://macworkforce.org/event/aib-meeting/
END:VEVENT
BEGIN:VEVENT
DTSTART;TZID=America/New_York:20240827T160000
DTEND;TZID=America/New_York:20240827T170000
DTSTAMP:20260423T113204
CREATED:20240816T142023Z
LAST-MODIFIED:20240816T142414Z
UID:2120-1724774400-1724778000@macworkforce.org
SUMMARY:AIB Pillar 4 Advisory Committee Meeting
DESCRIPTION:Click here to livestream.
URL:https://macworkforce.org/event/aib-pillar-4-advisory-committee-meeting/
END:VEVENT
BEGIN:VEVENT
DTSTART;VALUE=DATE:20240827
DTEND;VALUE=DATE:20240828
DTSTAMP:20260423T113204
CREATED:20240816T143755Z
LAST-MODIFIED:20240816T143755Z
UID:2145-1724716800-1724803199@macworkforce.org
SUMMARY:MSDE Board Meeting
DESCRIPTION:
URL:https://macworkforce.org/event/msde-board-meeting/
END:VEVENT
BEGIN:VEVENT
DTSTART;VALUE=DATE:20240824
DTEND;VALUE=DATE:20240825
DTSTAMP:20260423T113204
CREATED:20240816T143836Z
LAST-MODIFIED:20240816T143836Z
UID:2148-1724457600-1724543999@macworkforce.org
SUMMARY:MSDE Board Meeting
DESCRIPTION:
URL:https://macworkforce.org/event/msde-board-meeting-2/
END:VEVENT
BEGIN:VEVENT
DTSTART;TZID=America/New_York:20240627T130000
DTEND;TZID=America/New_York:20240627T140000
DTSTAMP:20260423T113204
CREATED:20240621T190515Z
LAST-MODIFIED:20240815T121125Z
UID:1794-1719493200-1719496800@macworkforce.org
SUMMARY:Child Care Apprenticeships Webinar
DESCRIPTION:WATCH THE RECORDING HERE\nFacts: \nAdults without access to quality childcare face significant challenges in gaining employment to support their family. \nMany industries in Maryland – including the childcare industry – face significant challenges in identifying qualified workers to fill open positions. \nAccording to Indeed.com’s career guide\, babysitting and working at childcare facilities are among the top jobs for high school students. \nWhat does all of this mean for childcare employers? \nHigh school students and adults interested in early childhood education are ideal pools of talent/workforce for childcare employers. \nThrough youth and registered apprenticeships\, employers can build their talent pipeline through a credentialed career path in the childcare sector. \nRecent Maryland policies and legislation will support growth in and access to childcare careers and apprenticeships. \nHow can a childcare employer do this and potentially receive financial incentives for doing so? By becoming an apprenticeship sponsor with support from the MD Dept. of Labor\, high school and college partners\, and MAC! \nJoin us for this informational webinar to learn: \nWhat it means to be a youth or registered apprentice in the childcare industry. \nMore information on the benefits for a childcare employer in leveraging youth and/or registered apprenticeship into their recruitment and retention strategies. \nResources available to help Maryland childcare employers through the apprenticeship process. \nFinancial incentives that may be available to offset costs for sponsoring a youth and/or registered childcare apprenticeship program. \nSuccess stories from a Maryland childcare provider and apprenticeship practitioners. \nPanel discussion participants to date include: \nModerator: Edna Primrose\, Business Development and Partnerships\, Maryland Apprenticeship Connector \nChris Peusch\, Executive Director\, Maryland State Childcare Association \nTony Wohlers\, Dean of Behavioral & Social Sciences\, Harford Community College \nBronwyn Bates\, Workforce Program Manager\, Howard Community College \nAlicia Fales\, Supervisor\, School to Career Transition\, Baltimore County Public Schools  \nLogan Dean\, Program Manager – Maryland Apprenticeship & Training Program\, Maryland Department of Labor
URL:https://macworkforce.org/event/child-care-apprenticeships-webinar/
END:VEVENT
BEGIN:VEVENT
DTSTART;TZID=America/New_York:20240422T090000
DTEND;TZID=America/New_York:20240422T093000
DTSTAMP:20260423T113204
CREATED:20240815T125158Z
LAST-MODIFIED:20240815T125158Z
UID:2111-1713776400-1713778200@macworkforce.org
SUMMARY:Maryland's Year of Service Webinar
DESCRIPTION:The 2024 deadline has now passed We’re thrilled to announce that we hosted Patrick Sawyer\, Partnership Development Associate at the Maryland Department of Service and Civic Innovation\, for an information session on Maryland’s Year of Service! 👋 If your business\, non-profit\, or government agency is hiring entry level staff or working with apprenticeships\, you should consider applying to be a Host Site. Tune into the discussion of the Year of Service program and how it can play a role in a talent growth strategy! \nCLICK HERE TO WATCH THE RECORDING
URL:https://macworkforce.org/event/marylands-year-of-service-webinar/
END:VEVENT
END:VCALENDAR